BEGIN:VCALENDAR
VERSION:2.0
PRODID:spatie/icalendar-generator
DESCRIPTION:Events from Maggies Little Helpers
X-WR-CALDESC:Events from Maggies Little Helpers
REFRESH-INTERVAL;VALUE=DURATION:PT1440M
X-PUBLISHED-TTL:PT1440M
BEGIN:VTIMEZONE
TZID:Europe/London
BEGIN:STANDARD
DTSTART:20241027T020000Z
TZOFFSETFROM:+0100
TZOFFSETTO:+0000
END:STANDARD
BEGIN:DAYLIGHT
DTSTART:20250330T010000Z
TZOFFSETFROM:+0000
TZOFFSETTO:+0100
END:DAYLIGHT
BEGIN:STANDARD
DTSTART:20251026T020000Z
TZOFFSETFROM:+0100
TZOFFSETTO:+0000
END:STANDARD
END:VTIMEZONE
BEGIN:VTIMEZONE
TZID:UTC
BEGIN:STANDARD
DTSTART:20250727T102617Z
TZOFFSETFROM:+0000
TZOFFSETTO:+0000
END:STANDARD
END:VTIMEZONE
BEGIN:VEVENT
UID:12-12
DTSTAMP:20260423T102617Z
SUMMARY:A Weekend with Caroline Munro and Friends II - Saturday 7th June 20
 25
LOCATION:Maggies at The Royal Free The Royal Free Hospital\, Rowland Hill S
 treet  London  NW3 2QG
ORGANIZER;CN=Maggie's Little Helpers:MAILTO:maggiesfundraising@btinternet.c
 om
DTSTART;TZID=Europe/London:20250607T100000
DTEND;TZID=Europe/London:20250607T180000
X-ALT-DESC;FMTTYPE=TEXT/HTML:A Weekend with Caroline Munro and Friends II
CATEGORIES:General
URL;VALUE=URI:https://maggies-little-helpers.co.uk/mc-events/a-weekend-with
 -caroline-munro-and-friends-ii-saturday-7th-june-2025/
METHOD:PUBLISH
END:VEVENT
END:VCALENDAR