BEGIN:VCALENDAR
VERSION:2.0
PRODID:spatie/icalendar-generator
DESCRIPTION:Events from Maggies Little Helpers
X-WR-CALDESC:Events from Maggies Little Helpers
REFRESH-INTERVAL;VALUE=DURATION:PT1440M
X-PUBLISHED-TTL:PT1440M
BEGIN:VTIMEZONE
TZID:Europe/London
BEGIN:DAYLIGHT
DTSTART:20260329T010000Z
TZOFFSETFROM:+0000
TZOFFSETTO:+0100
END:DAYLIGHT
BEGIN:STANDARD
DTSTART:20261025T020000Z
TZOFFSETFROM:+0100
TZOFFSETTO:+0000
END:STANDARD
BEGIN:DAYLIGHT
DTSTART:20270328T010000Z
TZOFFSETFROM:+0000
TZOFFSETTO:+0100
END:DAYLIGHT
END:VTIMEZONE
BEGIN:VTIMEZONE
TZID:UTC
BEGIN:STANDARD
DTSTART:20250725T082926Z
TZOFFSETFROM:+0000
TZOFFSETTO:+0000
END:STANDARD
END:VTIMEZONE
BEGIN:VEVENT
UID:16-16
DTSTAMP:20260421T082926Z
SUMMARY:A Day of 1000 Stars
LOCATION:Romford Lumiere Cinema The Mercury Shopping Centre  Mercury Garden
 s Romford  RM1 3EE
ORGANIZER;CN=Maggie's Little Helpers:MAILTO:maggiesfundraising@btinternet.c
 om
DTSTART;TZID=Europe/London:20261017T100000
DTEND;TZID=Europe/London:20261017T180000
X-ALT-DESC;FMTTYPE=TEXT/HTML:
CATEGORIES:General
URL;VALUE=URI:https://maggies-little-helpers.co.uk/mc-events/a-day-of-1000-
 stars/
METHOD:PUBLISH
END:VEVENT
END:VCALENDAR